BEGIN:VCALENDAR
VERSION:2.0
PRODID:-//UTU Virtual Open Week - ECPv6.15.20//NONSGML v1.0//EN
CALSCALE:GREGORIAN
METHOD:PUBLISH
X-WR-CALNAME:UTU Virtual Open Week
X-ORIGINAL-URL:https://sites.utu.fi/vow
X-WR-CALDESC:Events for UTU Virtual Open Week
REFRESH-INTERVAL;VALUE=DURATION:PT1H
X-Robots-Tag:noindex
X-PUBLISHED-TTL:PT1H
BEGIN:VTIMEZONE
TZID:Europe/Helsinki
BEGIN:DAYLIGHT
TZOFFSETFROM:+0200
TZOFFSETTO:+0300
TZNAME:EEST
DTSTART:20240331T010000
END:DAYLIGHT
BEGIN:STANDARD
TZOFFSETFROM:+0300
TZOFFSETTO:+0200
TZNAME:EET
DTSTART:20241027T010000
END:STANDARD
BEGIN:DAYLIGHT
TZOFFSETFROM:+0200
TZOFFSETTO:+0300
TZNAME:EEST
DTSTART:20250330T010000
END:DAYLIGHT
BEGIN:STANDARD
TZOFFSETFROM:+0300
TZOFFSETTO:+0200
TZNAME:EET
DTSTART:20251026T010000
END:STANDARD
BEGIN:DAYLIGHT
TZOFFSETFROM:+0200
TZOFFSETTO:+0300
TZNAME:EEST
DTSTART:20260329T010000
END:DAYLIGHT
BEGIN:STANDARD
TZOFFSETFROM:+0300
TZOFFSETTO:+0200
TZNAME:EET
DTSTART:20261025T010000
END:STANDARD
END:VTIMEZONE
BEGIN:VEVENT
DTSTART;TZID=Europe/Helsinki:20251119T140000
DTEND;TZID=Europe/Helsinki:20251119T150000
DTSTAMP:20260422T153818
CREATED:20241113T112401Z
LAST-MODIFIED:20251125T113042Z
UID:288-1763560800-1763564400@sites.utu.fi
SUMMARY:Master’s in Human Neuroscience | by the programme staff
DESCRIPTION:Watch the recording\n\nPresentation slides\n\n\n\nIf the button above does not work\, you can copy this link to your browser: \n\n\n\nWatch the recording: https://echo360.org.uk/media/7457c142-1ff9-4c22-b57e-9ce620bd17f4/public \n\n\n\nJoin this webinar for an in-depth introduction to Human Neuroscience. Meet the programme’s administrative and academic staff\, and learn about the strengths of the programme\, the knowledge you gain\, and your future career prospects when becoming their student. Additionally\, you will receive information about applying\, such as the relevant educational backgrounds the programme is looking for. \n\n\n\nStudents of the programme will get a deep understanding of human brain function. They will learn non-invasive imaging methods to investigate brain activation and structure as well as behavioural methods to measure human cognition and performance. \n\n\n\nSave the webinar in your calendar via the button below!
URL:https://sites.utu.fi/vow/event/masters-in-human-neuroscience-by-the-programme-staff/
CATEGORIES:Health and Biomedical Sciences,Master's programmes,Programme webinars
ATTACH;FMTTYPE=image/png:https://sites.utu.fi/vow/wp-content/uploads/sites/1366/2024/11/vow_human-neuroscience_kuva.png
ORGANIZER;CN="Turku Brain and Mind Center":MAILTO:med-mpd@utu.fi
END:VEVENT
END:VCALENDAR