BEGIN:VCALENDAR
VERSION:2.0
PRODID:-//UTU Virtual Open Week - ECPv6.15.20//NONSGML v1.0//EN
CALSCALE:GREGORIAN
METHOD:PUBLISH
X-WR-CALNAME:UTU Virtual Open Week
X-ORIGINAL-URL:https://sites.utu.fi/vow
X-WR-CALDESC:Events for UTU Virtual Open Week
REFRESH-INTERVAL;VALUE=DURATION:PT1H
X-Robots-Tag:noindex
X-PUBLISHED-TTL:PT1H
BEGIN:VTIMEZONE
TZID:Europe/Helsinki
BEGIN:DAYLIGHT
TZOFFSETFROM:+0200
TZOFFSETTO:+0300
TZNAME:EEST
DTSTART:20240331T010000
END:DAYLIGHT
BEGIN:STANDARD
TZOFFSETFROM:+0300
TZOFFSETTO:+0200
TZNAME:EET
DTSTART:20241027T010000
END:STANDARD
BEGIN:DAYLIGHT
TZOFFSETFROM:+0200
TZOFFSETTO:+0300
TZNAME:EEST
DTSTART:20250330T010000
END:DAYLIGHT
BEGIN:STANDARD
TZOFFSETFROM:+0300
TZOFFSETTO:+0200
TZNAME:EET
DTSTART:20251026T010000
END:STANDARD
BEGIN:DAYLIGHT
TZOFFSETFROM:+0200
TZOFFSETTO:+0300
TZNAME:EEST
DTSTART:20260329T010000
END:DAYLIGHT
BEGIN:STANDARD
TZOFFSETFROM:+0300
TZOFFSETTO:+0200
TZNAME:EET
DTSTART:20261025T010000
END:STANDARD
END:VTIMEZONE
BEGIN:VEVENT
DTSTART;TZID=Europe/Helsinki:20251120T120000
DTEND;TZID=Europe/Helsinki:20251120T133000
DTSTAMP:20260422T102219
CREATED:20251021T114029Z
LAST-MODIFIED:20251120T142456Z
UID:990-1763640000-1763645400@sites.utu.fi
SUMMARY:Webinar for prospects from Pakistani universities | by Admissions and embassy of Finland in Pakistan
DESCRIPTION:Recording\n\n\n\nIf the button above does not work\, you can copy this link to your browser: \n\n\n\nWebinar recording: https://echo360.org.uk/media/772d1153-b1f8-4ffc-8e4a-6e4667c28646/public \n\n\n\nJoin this interactive webinar for a comprehensive introduction to the University of Turku and what it is like to study in Finland as a student from Pakistan! Furthermore\, you will learn more about our research profile as well as available research and collaboration opportunities offered at the University. \n\n\n\n\nForeword from Ambassador Hannu Ripatti (Embassy of Finland in Pakistan)\n\n\n\nStudying at the University of Turku and in Finland (Admission Services)\n\n\n\nInsights from a current Pakistani student and a doctoral researcher\n\n\n\nQA\n\n\n\n\nThe sign-up for this webinar is available here.
URL:https://sites.utu.fi/vow/event/webinar-for-prospects-from-pakistani-universities-by-admissions-and-pak-embassy/
CATEGORIES:Admission Services,General information
ATTACH;FMTTYPE=image/png:https://sites.utu.fi/vow/wp-content/uploads/sites/1366/2025/10/vow_utupaki.png
END:VEVENT
END:VCALENDAR