BEGIN:VCALENDAR
VERSION:2.0
PRODID:-//UTU Virtual Open Week - ECPv6.15.20//NONSGML v1.0//EN
CALSCALE:GREGORIAN
METHOD:PUBLISH
X-WR-CALNAME:UTU Virtual Open Week
X-ORIGINAL-URL:https://sites.utu.fi/vow
X-WR-CALDESC:Events for UTU Virtual Open Week
REFRESH-INTERVAL;VALUE=DURATION:PT1H
X-Robots-Tag:noindex
X-PUBLISHED-TTL:PT1H
BEGIN:VTIMEZONE
TZID:Europe/Helsinki
BEGIN:DAYLIGHT
TZOFFSETFROM:+0200
TZOFFSETTO:+0300
TZNAME:EEST
DTSTART:20240331T010000
END:DAYLIGHT
BEGIN:STANDARD
TZOFFSETFROM:+0300
TZOFFSETTO:+0200
TZNAME:EET
DTSTART:20241027T010000
END:STANDARD
BEGIN:DAYLIGHT
TZOFFSETFROM:+0200
TZOFFSETTO:+0300
TZNAME:EEST
DTSTART:20250330T010000
END:DAYLIGHT
BEGIN:STANDARD
TZOFFSETFROM:+0300
TZOFFSETTO:+0200
TZNAME:EET
DTSTART:20251026T010000
END:STANDARD
BEGIN:DAYLIGHT
TZOFFSETFROM:+0200
TZOFFSETTO:+0300
TZNAME:EEST
DTSTART:20260329T010000
END:DAYLIGHT
BEGIN:STANDARD
TZOFFSETFROM:+0300
TZOFFSETTO:+0200
TZNAME:EET
DTSTART:20261025T010000
END:STANDARD
END:VTIMEZONE
BEGIN:VEVENT
DTSTART;TZID=Europe/Helsinki:20251121T130000
DTEND;TZID=Europe/Helsinki:20251121T140000
DTSTAMP:20260422T102158
CREATED:20241113T105756Z
LAST-MODIFIED:20251128T143708Z
UID:272-1763730000-1763733600@sites.utu.fi
SUMMARY:Master’s in East Asian Studies | by the programme staff
DESCRIPTION:Watch the recording\n\nPresentation slides\n\n\n\nIf the button above does not work\, you can copy this link to your browser: \n\n\n\nWatch the recording: https://echo360.org.uk/media/d1622d98-f75d-4df7-b272-d05784619ab1/public \n\n\n\nJoin this interactive webinar for an in-depth introduction to East Asian Studies. Meet the programme’s administrative and academic staff\, and participate in the discussion about the strengths of the programme\, the knowledge you gain\, and your future career prospects when becoming their student. Additionally\, you will receive information about applying\, such as the relevant educational backgrounds the programme is looking for.  \n\n\n\nThe Master’s Degree Programme in East Asian Studies (EAST) gives a unique opportunity to gain in-depth knowledge on the dynamic societies of contemporary East Asia. Students gain expertise on East Asian contemporary history\, politics and societies and learn social science research methods to become area specialists on East Asia. \n\n\n\nSave the webinar in your calendar via the button below!
URL:https://sites.utu.fi/vow/event/east-asian-studies/
CATEGORIES:Master's programmes,Programme webinars,Social Sciences and Humanities
ATTACH;FMTTYPE=image/png:https://sites.utu.fi/vow/wp-content/uploads/sites/1366/2024/11/vow_east_kuva.png
ORGANIZER;CN="Centre for East Asian Studies":MAILTO:ceas@utu.fi
END:VEVENT
BEGIN:VEVENT
DTSTART;TZID=Europe/Helsinki:20251120T130000
DTEND;TZID=Europe/Helsinki:20251120T140000
DTSTAMP:20260422T102158
CREATED:20241113T125657Z
LAST-MODIFIED:20251125T095446Z
UID:332-1763643600-1763647200@sites.utu.fi
SUMMARY:Master’s in Inequalities\, Interventions\, and New Welfare State | by the programme staff
DESCRIPTION:Watch the recording\n\n\n\nIf the button above does not work\, you can copy this link to your browser: \n\n\n\nWatch the recording: https://echo360.org.uk/media/31cef65d-564d-4d3e-a8e8-76bc7e677863/public \n\n\n\nJoin this interactive webinar for an in-depth introduction to Inequalities\, Interventions\, and New Welfare State. Meet the programme’s administrative and academic staff\, and participate in the discussion about the strengths of the programme\, the knowledge you gain\, and your future career prospects when becoming their student. Additionally\, you will receive information about applying\, such as the relevant educational backgrounds the programme is looking for. \n\n\n\nLearn how to reinvent social welfare strategies directly from world-class social and behavioural scientists. This programme is designed to give students rigorous training on social inequalities and welfare\, effective social policy or intervention design\, and using advanced statistical methods to measure data on these topics. \n\n\n\nSave the webinar in your calendar via the button below!
URL:https://sites.utu.fi/vow/event/masters-in-inequalities-interventions-and-new-welfare-state-by-the-programme-staff/
CATEGORIES:Master's programmes,Programme webinars,Social Sciences and Humanities
ATTACH;FMTTYPE=image/png:https://sites.utu.fi/vow/wp-content/uploads/sites/1366/2024/11/vow_INVEST_kuva.png
ORGANIZER;CN="Faculty of Social Sciences":MAILTO:mdp-invest@utu.fi
END:VEVENT
BEGIN:VEVENT
DTSTART;TZID=Europe/Helsinki:20251117T000000
DTEND;TZID=Europe/Helsinki:20251121T235959
DTSTAMP:20260422T102158
CREATED:20241113T115956Z
LAST-MODIFIED:20251215T132123Z
UID:315-1763337600-1763769599@sites.utu.fi
SUMMARY:Joint Master's in European Languages\, Cultures and Societies in Contact | by the programme staff
DESCRIPTION:Watch this recording for an in-depth introduction to European Languages\, Cultures and Societies in Contact to learn about the strengths of the programme\, the knowledge you gain\, and your future career prospects when becoming their student. Additionally\, you will receive information about applying\, such as the relevant educational backgrounds the programme is looking for. \n\n\n\nThe programme trains language professionals in an interdisciplinary theoretical framework and practical methods to be applied in a multilingual and multicultural world. After completion of the master’s degree\, you will be able to work as an expert in European languages\, language diversity and cultures for industry and for local\, national and international bodies. \n\n\n\nRemember to check the next application period’s deadlines on our How to apply page.
URL:https://sites.utu.fi/vow/event/joint-masters-in-european-languages-cultures-and-societies-in-contact-by-the-programme-staff/
CATEGORIES:Joint Degree Programme,Master's programmes,Programme webinars,Social Sciences and Humanities
ATTACH;FMTTYPE=image/png:https://sites.utu.fi/vow/wp-content/uploads/sites/1366/2024/11/vow_european-languages_kuva.png
ORGANIZER;CN="School of Languages and Translation Studies":MAILTO:hum-info@utu.fi
END:VEVENT
END:VCALENDAR